BEGIN:VCALENDAR
VERSION:2.0
PRODID:-//Talks.cam//talks.cam.ac.uk//
X-WR-CALNAME:Talks.cam
BEGIN:VEVENT
SUMMARY:Welcome and Introduction with update from CMIH - Carola-Bibiane Sc
 hönlieb (University of Cambridge)\; Ke Chen (University of Liverpool)
DTSTART:20170419T090000Z
DTEND:20170419T093000Z
UID:TALK71992@talks.cam.ac.uk
CONTACT:INI IT
DESCRIPTION:
LOCATION:Seminar Room 1\, Newton Institute
END:VEVENT
END:VCALENDAR
