BEGIN:VCALENDAR
VERSION:2.0
PRODID:-//Talks.cam//talks.cam.ac.uk//
X-WR-CALNAME:Talks.cam
BEGIN:VEVENT
SUMMARY:SAP Forum - Speaker to be confirmed
DTSTART:20170719T150000Z
DTEND:20170719T160000Z
UID:TALK72125@talks.cam.ac.uk
CONTACT:Equality & Diversity
DESCRIPTION:*An overview of the University’s Senior Academic Promotions 
 (SAP) procedure and the SAP CV scheme. This session will focus on STEMM bu
 t all are welcome.* \n\n*To book your place\, please visit: https://sapfor
 um2017.eventbrite.co.uk* \n
LOCATION:Lecture Room 6\, 8 Mill Lane 
END:VEVENT
END:VCALENDAR
