BEGIN:VCALENDAR
VERSION:2.0
PRODID:-//Talks.cam//talks.cam.ac.uk//
X-WR-CALNAME:Talks.cam
BEGIN:VEVENT
SUMMARY:The extreme values of random frequency response functions - Profes
 sor Robin Langley\, CUED
DTSTART:20170519T153000Z
DTEND:20170519T160000Z
UID:TALK72407@talks.cam.ac.uk
CONTACT:46601
DESCRIPTION:Abstract not available
LOCATION:Cambridge University Engineering Department\, JDB Seminar room
END:VEVENT
END:VCALENDAR
