BEGIN:VCALENDAR
VERSION:2.0
PRODID:-//Talks.cam//talks.cam.ac.uk//
X-WR-CALNAME:Talks.cam
BEGIN:VEVENT
SUMMARY:Dynamic comfort of road cyclist - Dr Julien Lepine\, CUED
DTSTART:20170519T150000Z
DTEND:20170519T153000Z
UID:TALK72408@talks.cam.ac.uk
CONTACT:46601
DESCRIPTION:Abstract not available
LOCATION:Cambridge University Engineering Department\, JDB Seminar room
END:VEVENT
END:VCALENDAR
