BEGIN:VCALENDAR
VERSION:2.0
PRODID:-//Talks.cam//talks.cam.ac.uk//
X-WR-CALNAME:Talks.cam
BEGIN:VEVENT
SUMMARY:Early Career Immunology Journal Club - Michael Harris\, MRC-LMB
DTSTART:20170516T180000Z
DTEND:20170516T193000Z
UID:TALK72578@talks.cam.ac.uk
CONTACT:Tammy Dougan
DESCRIPTION:Paper: http://science.sciencemag.org/content/355/6332/1428.ful
 l\n
LOCATION:Brenner Seminar Room\, MRC-LMB\, Francis Crick Avenue\, Cambridge
  Biomedical Campus\, CB2 0QH
END:VEVENT
END:VCALENDAR
