BEGIN:VCALENDAR
VERSION:2.0
PRODID:-//Talks.cam//talks.cam.ac.uk//
X-WR-CALNAME:Talks.cam
BEGIN:VEVENT
SUMMARY:Microtubule Modulation of Myocyte Mechanics - Dr Ben Prosser\, Uni
 versity of Pennsylvania
DTSTART:20171109T130000Z
DTEND:20171109T140000Z
UID:TALK72719@talks.cam.ac.uk
CONTACT:47770
DESCRIPTION:Abstract not available
LOCATION:Alice Fisher Lecture theatre\, Addenbrookes Hospital\, Cambridge.
END:VEVENT
END:VCALENDAR
