BEGIN:VCALENDAR
VERSION:2.0
PRODID:-//Talks.cam//talks.cam.ac.uk//
X-WR-CALNAME:Talks.cam
BEGIN:VEVENT
SUMMARY:Lecture Supper: James Stuart: Radical liberalism\, ‘non-gremial 
 students’ and continuing education - Dr Nigel Kettley\, University Senio
 r Lecturer in Education and Social Science
DTSTART:20170813T170000Z
DTEND:20170813T190000Z
UID:TALK72734@talks.cam.ac.uk
CONTACT:Paul Ireland
DESCRIPTION:James Stuart was a significant figure in Cambridge's history -
  a prominent engineer\, politician and educator\, who founded the Universi
 ty's Institute of Continuing Education in 1873. Find out more about his pi
 oneering work\, with sociologist Dr Nigel Kettley.\n\nThe lecture will beg
 in at 6.00pm\, and will be followed by a buffet supper at 7.00pm where you
  can meet the speaker and chat to other attendees.\n\nTickets are £29 per
  person\, and include a glass of house wine/prosecco and a buffet supper.\
 n\n"Book your place online":https://www.eventbrite.co.uk/e/lecture-suppers
 -tickets-33488227189
LOCATION:Institute of Continuing Education\, Madingley Hall
END:VEVENT
END:VCALENDAR
