BEGIN:VCALENDAR
VERSION:2.0
PRODID:-//Talks.cam//talks.cam.ac.uk//
X-WR-CALNAME:Talks.cam
BEGIN:VEVENT
SUMMARY:Alien: Covenant - Dr Jennifer Wiseman and Dr Beth Singler
DTSTART:20170531T171500Z
DTEND:20170531T201500Z
UID:TALK72753@talks.cam.ac.uk
CONTACT:Vasee
DESCRIPTION:When the crew of the colony ship Covenant touch down on what a
 ppears to be an uncharted utopian planet on the far side of the galaxy\, t
 hey make a harrowing and deadly discovery. With regular cinematographer Da
 riusz Wolski on board\, Scott delivers the goriest chapter in the Alien fr
 anchise to date\, recapturing the unsettling\, claustrophobic horror of hi
 s 1979 masterpiece.\n\nWith introductory talk by Dr Jennifer Wiseman\, sen
 ior astrophysicist at NASA's Goddard Space Flight Center and Dr Beth Singl
 er\, social anthropologist at the Faraday Institute for Science and Religi
 on. Book your tickets through the Arts Picturehouse:\nhttps://www.pictureh
 ouses.com/cinema/Arts_Picturehouse_Cambridge/film/alien-covenant/tickets/1
 6685\n\nSciScreen is organised by the BSA in conjunction with the Arts Pic
 turehouse to bring science to the big screen.
LOCATION:Arts Picture House Cinema\, 38-39 St. Andrews Street
END:VEVENT
END:VCALENDAR
