BEGIN:VCALENDAR
VERSION:2.0
PRODID:-//Talks.cam//talks.cam.ac.uk//
X-WR-CALNAME:Talks.cam
BEGIN:VEVENT
SUMMARY:Title: Succs to be starved (of oxygen) -  Presenter: Matthias Kohl
 hauer and Elizabeth Wheater
DTSTART:20170621T120000Z
DTEND:20170621T123000Z
UID:TALK72777@talks.cam.ac.uk
CONTACT:Vicky Clarke
DESCRIPTION:Specialist Lead: Prof Ian Wilkinson\n\nLead Consultant: Dr Tho
 mas Krieg\n\nPresenter: Matthias Kohlhauer and Elizabeth Wheater\n\nTitle:
  Succs to be starved (of oxygen)\n\nClinical Pharmacology\n
LOCATION:William Harvey Lecture Theatre
END:VEVENT
END:VCALENDAR
