BEGIN:VCALENDAR
VERSION:2.0
PRODID:-//Talks.cam//talks.cam.ac.uk//
X-WR-CALNAME:Talks.cam
BEGIN:VEVENT
SUMMARY: Title: Mosaicism in Neurofibromatosis Type 2:  piecing together t
 he jigsaw - Presenter: Ana Lisa Taylor Tavares\,
DTSTART:20170621T123000Z
DTEND:20170621T130000Z
UID:TALK72778@talks.cam.ac.uk
CONTACT:Vicky Clarke
DESCRIPTION:Specialist Lead: Prof Eamonn Maher \n\nLead Consultant: Dr Rut
 h Armstrong\n\nPresenter: Ana Lisa Taylor Tavares\, Specialist Registrar\n
 \nTitle: Mosaicism in Neurofibromatosis Type 2:  piecing together the jigs
 aw\n\n\nMedical Genetics
LOCATION:William Harvey Lecture Theatre
END:VEVENT
END:VCALENDAR
