BEGIN:VCALENDAR
VERSION:2.0
PRODID:-//Talks.cam//talks.cam.ac.uk//
X-WR-CALNAME:Talks.cam
BEGIN:VEVENT
SUMMARY:Title: "Resting the lungs" - Presenter: Dr Kristen Dyer
DTSTART:20170705T123000Z
DTEND:20170705T130000Z
UID:TALK72782@talks.cam.ac.uk
CONTACT:Vicky Clarke
DESCRIPTION:Specialist Lead: Prof David Menon\n\nLead Consultant: Dr Charl
 otte Summers\n\nPresenter: Dr Kristen Dyer\n\nTitle: "Resting the lungs"\n
 \nAnaesthesia / Intensive Care\n
LOCATION:William Harvey Lecture Theatre
END:VEVENT
END:VCALENDAR
