BEGIN:VCALENDAR
VERSION:2.0
PRODID:-//Talks.cam//talks.cam.ac.uk//
X-WR-CALNAME:Talks.cam
BEGIN:VEVENT
SUMMARY: Cognitive rehabilitation in people with schizophrenia  - Professo
 r Dame Til Wykes. DBE\, Vice Dean Psychology and Systems Sciences  Institu
 te of Psychiatry\, Psychology and Neuroscience  King’s College London
DTSTART:20171117T163000Z
DTEND:20171117T173000Z
UID:TALK72918@talks.cam.ac.uk
CONTACT:Louise White
DESCRIPTION:Professor Dame Til Wykes is a professor at the prestigious Ins
 titute of Psychiatry\, Psychology and Neuroscience (IoPPN) at King’s Col
 lege Hospital in the UK. She is a clinical psychologist at the Maudsley Ho
 spital and leads the Division of Psychology and Systems Sciences as its Vi
 ce Dean. She has contributed more than 200 papers\, 14 books and personall
 y leads £10m in grants. She is an NIHR Senior Investigator (one of only 2
 00 in the UK) and in 2016 was made a Dame (a knighthood) by the Queen for 
 her services to mental health. In addition to her research she founded and
  is now the co-director of the Service User Research Enterprise which empl
 oys researchers who have had experience of using mental health services. S
 he is an editorial board member of 8 journals as well as being the Executi
 ve Editor of the Journal of Mental Health. As well as these accomplishment
 s in March this year she was also presented with the Guinness World Record
  for the largest mental health lesson.\n\n 
LOCATION:Ground Floor Lecture Theatre\, Department of Psychology
END:VEVENT
END:VCALENDAR
