BEGIN:VCALENDAR
VERSION:2.0
PRODID:-//Talks.cam//talks.cam.ac.uk//
X-WR-CALNAME:Talks.cam
BEGIN:VEVENT
SUMMARY:Vision Science Journal Club: van den Hurk\, van Baelen and Op de B
 eeck - Kate Storrs
DTSTART:20170620T103000Z
DTEND:20170620T113000Z
UID:TALK73135@talks.cam.ac.uk
CONTACT:48865
DESCRIPTION:This week Kate Storrs will lead a discussion of van den Hurk\,
  J.\, Van Baelen\, M.\, & de Beeck\, H. P. O. (2017). Development of visua
 l category selectivity in ventral visual cortex does not require visual ex
 perience. Proceedings of the National Academy of Sciences\, 201612862.\n\n
 Paper here: http://www.pnas.org/content/114/22/E4501.abstract
LOCATION:Nick Mackintosh Room\, Dept. Psychology\, Downing Site
END:VEVENT
END:VCALENDAR
