BEGIN:VCALENDAR
VERSION:2.0
PRODID:-//Talks.cam//talks.cam.ac.uk//
X-WR-CALNAME:Talks.cam
BEGIN:VEVENT
SUMMARY: "Leukocytes in action - watching them at work in zebrafish fungal
  infection models" - Graham Lieschke\, Australian Regenerative Medicine In
 stitute
DTSTART:20170714T150000Z
DTEND:20170714T160000Z
UID:TALK73861@talks.cam.ac.uk
CONTACT:Tammy Dougan
DESCRIPTION:Abstract not available
LOCATION:Sanger Room\, MRC-LMB\, Francis Crick Avenue\, Cambridge Biomedic
 al Campus\, CB2 0QH
END:VEVENT
END:VCALENDAR
