BEGIN:VCALENDAR
VERSION:2.0
PRODID:-//Talks.cam//talks.cam.ac.uk//
X-WR-CALNAME:Talks.cam
BEGIN:VEVENT
SUMMARY:Keronite - Dr Steve Hutchins\, CTO of Keronite
DTSTART:20170718T170000Z
DTEND:20170718T193000Z
UID:TALK74221@talks.cam.ac.uk
CONTACT:Publicity Officer\, IMechE Beds & Cambs area
DESCRIPTION:The talk will be preceded by the Annual General Meeting of the
  Cambridgeshire area of the Institution of Mechanical Engineers\, starting
  at 18:15.\n\nAfter the AGM\, there will be a short break\, followed at 19
 :00 by a talk on Keronite\, to be given by Dr Steve Hutchins\, CTO of Kero
 nite.\n\n*Keronite* ("www.keronite.com":http://www.keronite.com) is a Plas
 ma Electrolytic Oxidation (PEO) surface treatment technology\, an electroc
 hemical surface treatment applied to aluminium\, magnesium or titanium. It
  gives a hard\, dense ceramic coating on light alloys which is well adhere
 d\, strain and wear tolerant\, with excellent thermal and chemical stabili
 ty.\n\nOur speaker\, *Dr Steve Hutchins*\, studied at the University of Ea
 st Anglia. He has a 1st class honours degree and was awarded a PhD in surf
 ace physics technology in 1985. Steve started his career as an engineering
  consultant in Cambridge working on a wide variety of technology projects.
  He then joined Lotus Cars Ltd as an engineer before being promoted eventu
 ally to Head of Sales and Project Management of the Engineering Division w
 orking with many of the world’s leading carmakers. He joined Keronite in
  December 2002 to reinforce the commercial effort\, particularly in the au
 tomotive industry\, before being appointed Chief Technical Officer and lat
 er Chief Operating Officer.\n\nThe talk is free to attend\, open to the pu
 blic and is suitable for students and engineers. All welcome. You are enco
 uraged to pass on this invitation and bring with you colleagues\, friends 
 and family who are interested in engineering.\n\n*Date*: Tuesday 18 July 2
 017\n\n*Time*: Refreshments served from 18:00. AGM starts 18:15.  Talk sta
 rts 19:00.  Ends following Q&A around 20:30.\n\n*Venue*: Institute for Man
 ufacturing\, Cambridge University\, Alan Reece Building\, 17 Charles Babba
 ge Road\, Cambridge CB3 0FS ("directions":http://www.ifm.eng.cam.ac.uk/con
 tact/).\n\n*Parking*: Please use Car Park 8. The access code is: 2468. Car
  park 8 is located on the same side of the road as the IfM and is the last
  car park on this side\, beyond the Materials Science and Metallurgy Build
 ing. (Please note the code will not work on any other car park\, and altho
 ugh the barrier will be raised early evening it will go down again later\,
  so if people park there and the barrier goes down\, they will have to cal
 l security to exit the car park.)\n\nThis event is organised by the Instit
 ution of Mechanical Engineers Cambridgeshire area.
LOCATION:Institute for Manufacturing\, 17 Charles Babbage Road\, Cambridge
  CB3 0FS
END:VEVENT
END:VCALENDAR
