BEGIN:VCALENDAR
VERSION:2.0
PRODID:-//Talks.cam//talks.cam.ac.uk//
X-WR-CALNAME:Talks.cam
BEGIN:VEVENT
SUMMARY:Axon and dendrite geography predict the specificity of synaptic co
 nnections in a functioning spinal cord network - Prof. Alan Roberts\, Univ
 ersity of Bristol
DTSTART:20070607T150000Z
DTEND:20070607T160000Z
UID:TALK7492@talks.cam.ac.uk
CONTACT:Katharine Lewis
DESCRIPTION:Abstract not available
LOCATION:Anatomy Lecture Theatre
END:VEVENT
END:VCALENDAR
