BEGIN:VCALENDAR
VERSION:2.0
PRODID:-//Talks.cam//talks.cam.ac.uk//
X-WR-CALNAME:Talks.cam
BEGIN:VEVENT
SUMMARY:Student Electives - Presenter: Yousra Ahmed-Salam\, Christopher Je
 nkins\, Abi Margill
DTSTART:20171011T120000Z
DTEND:20171011T130000Z
UID:TALK75251@talks.cam.ac.uk
CONTACT:Vicky Clarke
DESCRIPTION:Student Electives\n\nDr Diana Wood\n\nPresenters:\n\nTitle:\n\
 n\n
LOCATION:William Harvey Lecture Theatre
END:VEVENT
END:VCALENDAR
