BEGIN:VCALENDAR
VERSION:2.0
PRODID:-//Talks.cam//talks.cam.ac.uk//
X-WR-CALNAME:Talks.cam
BEGIN:VEVENT
SUMMARY:Density-functional perturbation theory goes time dependent: from s
 tatic properties\, to lattice vibrations\, up to optical excitations - Pro
 f. Stefano Baroni\, DEMOCRITOS National Simulation Center Trieste
DTSTART:20070614T103000Z
DTEND:20070614T113000Z
UID:TALK7603@talks.cam.ac.uk
CONTACT:Dr Jonathan Keeling
DESCRIPTION:Abstract not available
LOCATION:TCM Seminar Room\, Cavendish Laboratory
END:VEVENT
END:VCALENDAR
