BEGIN:VCALENDAR
VERSION:2.0
PRODID:-//Talks.cam//talks.cam.ac.uk//
X-WR-CALNAME:Talks.cam
BEGIN:VEVENT
SUMMARY:What we don’t know about the Universe from the very small to the
  very big : ONE DAY MEETING - Organisers Professor Ron Horgan and Dr Matt 
 Wingate
DTSTART:20180323T090000Z
DTEND:20180323T171500Z
UID:TALK78031@talks.cam.ac.uk
CONTACT:Beverley Larner
DESCRIPTION:Friday 23 March 2018\n\nWhat we don't know about the Universe:
  From the very small to the very big\n\nA one-day scientific meeting cover
 ing the challenges faced by Particle Physics and Cosmology in understandin
 g how the Universe works.  Open to all who are interested\, entry is free 
 and no booking is required.\n\nOrganisers: Professor Ron Horgan and Dr Mat
 t Wingate\n\nProgramme:\n\n09:00 - 09:15 Introduction\n\n09:15  	A History
  of the Standard Model\,  Professor Frank Close\, Department of Physics\, 
 University of Oxford\n\n10:15  	What's Happening at the LHC\,  Professor V
 alerie Gibson\,  Cavendish Laboratory\, University of Cambridge\n\n11:15  
  Coffee break\n\n11:45  	Physics Beyond the Standard Model\, Professor Ben
  Allanach\,   DAMTP-CMS\, University of Cambridge\n\n12:45 Lunch in Newnha
 m College\n\n13:45 	Gravitational Waves\,Dr Chris Moore\, CENTRA\, Univers
 ity of Lisbon\n\n14:45 	Seeing the beginning: the Cosmic Microwave Backgro
 und and what it can tell us about our 	 Universe\, Dr Blake Sherwin\, DAMT
 P\, University of Cambridge and the Kavli	Institute for Cosmology\n\n15:45
  Tea break\n\n16:15  	Gravity!?\, Dr Claudia de Rham\, Department of Physi
 cs\, Imperial College London\n\n17:15 End of meeting\n\nA buffet lunch wil
 l be available at a cost of £5 in advance or £7.00 on the day. Numbers f
 or the luncheon are limited and an advance purchase is recommended to guar
 antee a place. Please contact the Executive Secretary for a voucher.\n\nTh
 e first 70 Fellows of the Society to apply will be offered a complimentary
  luncheon voucher.\n\n 
LOCATION:Lady Mitchell Hall\, Sidgwick Site Sidgwick Avenue\, CB3 9DA
END:VEVENT
END:VCALENDAR
