BEGIN:VCALENDAR
VERSION:2.0
PRODID:-//Talks.cam//talks.cam.ac.uk//
X-WR-CALNAME:Talks.cam
BEGIN:VEVENT
SUMMARY:ABAQUS I - An Introduction - Arul Britto (CUED)
DTSTART:20071023T140000Z
DTEND:20071023T150000Z
UID:TALK7848@talks.cam.ac.uk
CONTACT:Tim Love
DESCRIPTION:See the "online notes":http://www2.eng.cam.ac.uk/~amb2/seminar
 /abaqus1.html for details
LOCATION:LT0\, Engineering Department
END:VEVENT
END:VCALENDAR
