BEGIN:VCALENDAR
VERSION:2.0
PRODID:-//Talks.cam//talks.cam.ac.uk//
X-WR-CALNAME:Talks.cam
BEGIN:VEVENT
SUMMARY:Long programs and optimisation - Tim Love (CUED)
DTSTART:20071123T150000Z
DTEND:20071123T160000Z
UID:TALK7856@talks.cam.ac.uk
CONTACT:Tim Love
DESCRIPTION:How to optimize long-running programs and how to run them at C
 UED.
LOCATION:LT0\, Engineering Department
END:VEVENT
END:VCALENDAR
