BEGIN:VCALENDAR
VERSION:2.0
PRODID:-//Talks.cam//talks.cam.ac.uk//
X-WR-CALNAME:Talks.cam
BEGIN:VEVENT
SUMMARY:Shift happens: A systems-level analysis of the gap gene network in
  Drosophila - Johannes Jaeger Department of Zoology\, University of Cambri
 dge (UK)
DTSTART:20071115T153000Z
DTEND:20071115T160000Z
UID:TALK8011@talks.cam.ac.uk
CONTACT:Duncan Simpson
DESCRIPTION: \n\n
LOCATION:Lubbock Room\, Peterhouse\, Cambridge
END:VEVENT
END:VCALENDAR
