BEGIN:VCALENDAR
VERSION:2.0
PRODID:-//Talks.cam//talks.cam.ac.uk//
X-WR-CALNAME:Talks.cam
BEGIN:VEVENT
SUMMARY:Simulations of Pulsating Soft Corals - Shilpa Khatri (University o
 f California\, Merced)
DTSTART:20170919T123000Z
DTEND:20170919T131000Z
UID:TALK80131@talks.cam.ac.uk
CONTACT:INI IT
DESCRIPTION:Soft corals of the family Xeniidae have a pulsating motion\, a
  behavior not observed in many other sessile organisms. We are studying ho
 w this behavior may give these coral a competitive advantage. We will pres
 ent direct numerical simulations of the pulsations of the coral and the re
 sulting fluid flow by solving the Navier-Stokes equations coupled with the
  immersed boundary method. Furthermore\, parameter sweeps studying the res
 ulting fluid flow will be discussed.&nbsp\;<br>
LOCATION:Seminar Room 1\, Newton Institute
END:VEVENT
END:VCALENDAR
