BEGIN:VCALENDAR
VERSION:2.0
PRODID:-//Talks.cam//talks.cam.ac.uk//
X-WR-CALNAME:Talks.cam
BEGIN:VEVENT
SUMMARY:Molecular imaging using hyperpolarised carbon-13 - Ferdia Gallaghe
 r Departments of Biochemistry and Radiology\, University of Cambridge (UK)
DTSTART:20071116T163000Z
DTEND:20071116T170000Z
UID:TALK8024@talks.cam.ac.uk
CONTACT:Duncan Simpson
DESCRIPTION:Abstract not available
LOCATION:Lubbock Room\, Peterhouse\, Cambridge
END:VEVENT
END:VCALENDAR
