BEGIN:VCALENDAR
VERSION:2.0
PRODID:-//Talks.cam//talks.cam.ac.uk//
X-WR-CALNAME:Talks.cam
BEGIN:VEVENT
SUMMARY:Loop Quantum Gravity - Carlo Rovelli\, Marseille\, CPT
DTSTART:20171011T131500Z
DTEND:20171011T141500Z
UID:TALK81131@talks.cam.ac.uk
CONTACT:David Marsh
DESCRIPTION:I summarise the main results and the recent developments of th
 e theory of Loop Quantum Gravity. I focus on a recent application to study
  the way black holes die at the end of their evaporation. 
LOCATION:MR2\, Centre for Mathematical Sciences
END:VEVENT
END:VCALENDAR
