BEGIN:VCALENDAR
VERSION:2.0
PRODID:-//Talks.cam//talks.cam.ac.uk//
X-WR-CALNAME:Talks.cam
BEGIN:VEVENT
SUMMARY:*POSTPONED* The most effective charity in the world? - AMF's Peter
  Sherratt  - Peter Sherratt\, AMF
DTSTART:20170920T180000Z
DTEND:20170920T193000Z
UID:TALK81361@talks.cam.ac.uk
CONTACT:Miss Eve McCormick
DESCRIPTION:*We are sorry to have to postpone the talk. We will let you kn
 ow of the new date and time. We apologize for the short notice and the inc
 onvenience.*\n\nWe're excited to be hosting a talk by Peter Sherratt\, Exe
 cutive Chairman of Against Malaria Foundation. He was also one of its orig
 inal trustees in 2004.\n\nAgainst Malaria Foundation is the most effective
  charity in the world according to the independent charity evaluator GiveW
 ell. It has also consistently been rated as a top charity by Giving What W
 e Can and The Life You Can Save\, with an estimated cost of just over $300
 0 for saving the equivalent of one under-5-year-old life.\n\nPeter will be
  speaking about his work at the Foundation and this is an excellent opport
 unity to ask him your questions as well.\n\nThere will be some free snacks
  and drinks.\n\nThe event is open to the public\, not just to members of t
 he University of Cambridge. Everyone is welcome\, especially those new to 
 effective altruism!\n\nSee the Facebook event here: https://www.facebook.c
 om/events/300867230321431
LOCATION:Alcock Room\, Jesus College\, Cambridge 
END:VEVENT
END:VCALENDAR
