BEGIN:VCALENDAR
VERSION:2.0
PRODID:-//Talks.cam//talks.cam.ac.uk//
X-WR-CALNAME:Talks.cam
BEGIN:VEVENT
SUMMARY:Document Preparation using LaTeX - Tim Love (University of Cambrid
 ge)
DTSTART:20171027T140000Z
DTEND:20171027T150000Z
UID:TALK83391@talks.cam.ac.uk
CONTACT:Tim Love
DESCRIPTION:An introduction to LaTeX's concepts and related learning mater
 ial.
LOCATION:LR3A\, Engineering\, Department of
END:VEVENT
END:VCALENDAR
