BEGIN:VCALENDAR
VERSION:2.0
PRODID:-//Talks.cam//talks.cam.ac.uk//
X-WR-CALNAME:Talks.cam
BEGIN:VEVENT
SUMMARY:The Tarantula Nebula - A template for extragalactic star forming r
 egions - Paul Crowther (University of Sheffield)
DTSTART:20171012T150000Z
DTEND:20171012T160000Z
UID:TALK83591@talks.cam.ac.uk
CONTACT:Richard McMahon
DESCRIPTION:I will summarise results from spectroscopic surveys of the LMC
  supergiant HII region 30 Dor (Tarantula Nebula): \n(i) the VLT-FLAMES Tar
 antula Survey (VFTS) in which the physical\, binary and kinematical proper
 ties of 800 massive stars have been obtained across 200x200 pc\; \n(ii) VL
 T/MUSE integral field spectroscopy of the central region NGC2070 covering 
 30x30 pc\; \n(iii) HST/STIS spatially resolved census of the core R136 ion
 izing cluster sampling 1x1pc. \nI will compare our spatially resolved stel
 lar census with the integrated properties of the \ngiant HII region and cl
 uster - as would be witnessed if viewed from Mpc distances\, relevant to d
 eterminations of properties of extragalactic star-forming regions. Similar
 ities with green pea galaxies will also be noted.
LOCATION:Sackler Lecture Theatre\, IoA (tea at 3:30 pm)
END:VEVENT
END:VCALENDAR
