BEGIN:VCALENDAR
VERSION:2.0
PRODID:-//Talks.cam//talks.cam.ac.uk//
X-WR-CALNAME:Talks.cam
BEGIN:VEVENT
SUMMARY:Woundcare - Tom Southern
DTSTART:20171024T183000Z
DTEND:20171024T200000Z
UID:TALK84891@talks.cam.ac.uk
CONTACT:Mary Fortune
DESCRIPTION:How do you stop the bleeding from a major wound? How do you re
 duce the risk of infection from a minor one? Why do our first aid kits hav
 e cling film in them? We will discuss the techniques and equipment you sho
 uld use to dress a variety of injuries and wounds.
LOCATION:The Octagon\, Wesley Methodist Church\, Christ's Pieces
END:VEVENT
END:VCALENDAR
