BEGIN:VCALENDAR
VERSION:2.0
PRODID:-//Talks.cam//talks.cam.ac.uk//
X-WR-CALNAME:Talks.cam
BEGIN:VEVENT
SUMMARY:Synthetic Biology - Molecular bioengineering for the 21st Century 
 - Speaker to be confirmed
DTSTART:20071203T090000Z
DTEND:20071203T180000Z
UID:TALK8500@talks.cam.ac.uk
CONTACT:Cambridge Philosophical Society
DESCRIPTION:Abstract not available
LOCATION:Pippard Lecture Theatre\, Cavendish Laboratory\, Madingley Road\,
  Cambridge
END:VEVENT
END:VCALENDAR
