BEGIN:VCALENDAR
VERSION:2.0
PRODID:-//Talks.cam//talks.cam.ac.uk//
X-WR-CALNAME:Talks.cam
BEGIN:VEVENT
SUMMARY:Nuclear Fusion and the Hydrogen Economy - Bill Nuttall\, Judge Bus
 iness School and Department of Engineering
DTSTART:20071024T190000Z
DTEND:20071024T203000Z
UID:TALK8627@talks.cam.ac.uk
CONTACT:Michael Hoffman
DESCRIPTION:Nuclear Fusion holds the promise of environmentally benign\, s
 afe and secure electricity generation for the late twenty-first century. R
 esearch towards this goal has been underway for fifty years and the goal o
 f commercial electricity generation still lies at least forty years away. 
 Dr Nuttall’s presentation extends a suggestion first advanced by General
  Atomics of San Diego\, California that the first commercial use of fusion
  energy might not be for electricity\, but rather to produce hydrogen as a
 n energy carrier in a future transport economy. Together with colleagues D
 r Nuttall has developed an outline concept known as “Fusion Island” fr
 om which the hydrogen produced is not only a commercial replacement for pe
 troleum-based vehicle fuels but also\, as liquid hydrogen in the 15k-20K\,
  range could be a cryogenic coolant for new superconducting coils. Such co
 ils could make possible fusion reactors in most respects simpler and easie
 r to operate commercially than those currently proposed for electricity ge
 neration. Dr Nuttall will describe the Fusion Island proposal and recent d
 evelopments in the project. The Fusion Island concept won a runners’-up 
 Innovation Award in 2006 from the East of England Energy Group. 
LOCATION:Boys Smith Room\, Fisher Building\, St Johns College
END:VEVENT
END:VCALENDAR
