BEGIN:VCALENDAR
VERSION:2.0
PRODID:-//Talks.cam//talks.cam.ac.uk//
X-WR-CALNAME:Talks.cam
BEGIN:VEVENT
SUMMARY:Climate of Fear or Fear of Climate? 'Lines of Defence' on the East
  Coast of England - Bettina Furnee\, www.ifever.org.uk and 2008 UL Artist-
 in-Residence
DTSTART:20071203T170000Z
DTEND:20071203T183000Z
UID:TALK8631@talks.cam.ac.uk
CONTACT:Benjamin Morris
DESCRIPTION:Abstract not available
LOCATION:CRASSH Seminar Room\, 17 Mill Lane
END:VEVENT
END:VCALENDAR
