BEGIN:VCALENDAR
VERSION:2.0
PRODID:-//Talks.cam//talks.cam.ac.uk//
X-WR-CALNAME:Talks.cam
BEGIN:VEVENT
SUMMARY:The Global Conservation Crisis - Anthony M Tung\, author of 'Prese
 rving the World's Great Cities: The Destruction and Renewal of the Histori
 c Metropolis'
DTSTART:20071030T170000Z
DTEND:20071030T183000Z
UID:TALK8654@talks.cam.ac.uk
CONTACT:Benjamin Morris
DESCRIPTION:Abstract not available
LOCATION:Queen's Building Lecture Theatre\, Emmanuel College
END:VEVENT
END:VCALENDAR
