BEGIN:VCALENDAR
VERSION:2.0
PRODID:-//Talks.cam//talks.cam.ac.uk//
X-WR-CALNAME:Talks.cam
BEGIN:VEVENT
SUMMARY:Asymptotic problems for stochastic processes and differential equa
 tions - Professor Mark Freidlin (Maryland)
DTSTART:20080429T160000Z
DTEND:20080429T170000Z
UID:TALK8789@talks.cam.ac.uk
CONTACT:Helen Innes
DESCRIPTION:I will consider a number of asymptotic problems for differenti
 al equations\, ordinary and partial\, which can be solved by the direct pr
 obabilistic analysis of stochastic processes related to these equations.  
  In particular\, I will speak on old and new results for PDEs with a small
  parameter in higher derivatives and corresponding processes\, on classica
 l averaging principle for ordinary differential equations when the first i
 ntegral (Hamiltonian) has many wells\, on reaction-advection in incompress
 ible 3D-flow which is close to a planar motion.\n\n
LOCATION:Wolfson Room (MR 2) Centre for Mathematical Sciences\, Wilberforc
 e Road\, Cambridge
END:VEVENT
END:VCALENDAR
