BEGIN:VCALENDAR
VERSION:2.0
PRODID:-//Talks.cam//talks.cam.ac.uk//
X-WR-CALNAME:Talks.cam
BEGIN:VEVENT
SUMMARY:Expanding antibiotic diversity by multienzyme engineering: from mo
 dels to medicines - Prof. Peter Leadlay
DTSTART:20071204T130000Z
DTEND:20071204T140000Z
UID:TALK8808@talks.cam.ac.uk
CONTACT:7012
DESCRIPTION:Abstract not available
LOCATION:Biochemistry Lecture Theatre\, Sanger Building
END:VEVENT
END:VCALENDAR
