BEGIN:VCALENDAR
VERSION:2.0
PRODID:-//Talks.cam//talks.cam.ac.uk//
X-WR-CALNAME:Talks.cam
BEGIN:VEVENT
SUMMARY:"LARP1 a post-transcriptional driver of cancer gene expression" - 
 Dr Sarah P Blagden\; Associate Professor of Experimental Cancer Medicine &
  Consultant Medical Oncologist\, Director of Early Phase Cancer Trials Uni
 t & Oxford ECMC lead\, University of Oxford
DTSTART:20171114T130000Z
DTEND:20171114T140000Z
UID:TALK88131@talks.cam.ac.uk
CONTACT:Bobbie Claxton
DESCRIPTION:Abstract not available
LOCATION:Babraham - The Brian Heap Seminar Room
END:VEVENT
END:VCALENDAR
