BEGIN:VCALENDAR
VERSION:2.0
PRODID:-//Talks.cam//talks.cam.ac.uk//
X-WR-CALNAME:Talks.cam
BEGIN:VEVENT
SUMMARY:Numbers\, not adjectives - a rough guide to the sustainable energy
  problem - Professor David MacKay\, Dept. of Physics\, Cambridge
DTSTART:20071114T210000Z
DTEND:20071114T220000Z
UID:TALK8852@talks.cam.ac.uk
CONTACT:Ellie Mackay
DESCRIPTION:How 'huge' is the potential of renewable energy? How does this
  'huge' compare with our huge consumption? Can Britain live on its own ren
 ewables? What do we need to do to get off fossil fuels?
LOCATION:New Common Room\, Pembroke College
END:VEVENT
END:VCALENDAR
