BEGIN:VCALENDAR
VERSION:2.0
PRODID:-//Talks.cam//talks.cam.ac.uk//
X-WR-CALNAME:Talks.cam
BEGIN:VEVENT
SUMMARY:Molecules and Computers - Ali Shah\, Department of Chemistry
DTSTART:20071108T131500Z
DTEND:20071108T134500Z
UID:TALK8857@talks.cam.ac.uk
CONTACT:Emanuel Busch
DESCRIPTION:Abstract not available
LOCATION:Entertaining Room\, Darwin College
END:VEVENT
END:VCALENDAR
