BEGIN:VCALENDAR
VERSION:2.0
PRODID:-//Talks.cam//talks.cam.ac.uk//
X-WR-CALNAME:Talks.cam
BEGIN:VEVENT
SUMMARY:Engaging Fathers in Perinatal Mental Health Research: Why and How 
 - Dr. Jill Domoney Clinical Psychology\, King’s College London
DTSTART:20171010T120000Z
DTEND:20171010T130000Z
UID:TALK88751@talks.cam.ac.uk
CONTACT:Hannah Mayes
DESCRIPTION:Abstract not available
LOCATION:Seminar room 606\, Old Cavendish Laboratory
END:VEVENT
END:VCALENDAR
