BEGIN:VCALENDAR
VERSION:2.0
PRODID:-//Talks.cam//talks.cam.ac.uk//
X-WR-CALNAME:Talks.cam
BEGIN:VEVENT
SUMMARY:Computational high frequency waves in heterogeneous media - Shi Ji
 n (University of Wisconsin)
DTSTART:20080214T150000Z
DTEND:20080214T160000Z
UID:TALK8880@talks.cam.ac.uk
CONTACT:6743
DESCRIPTION:Abstract not available
LOCATION:MR14\, CMS
END:VEVENT
END:VCALENDAR
