BEGIN:VCALENDAR
VERSION:2.0
PRODID:-//Talks.cam//talks.cam.ac.uk//
X-WR-CALNAME:Talks.cam
BEGIN:VEVENT
SUMMARY:Carl Nightingale: From a Global History of Divided Cities to a Glo
 bal Urban History - Carl Nightingale\, University of Buffalo
DTSTART:20171120T170000Z
DTEND:20171120T190000Z
UID:TALK88851@talks.cam.ac.uk
CONTACT:Jonathan Goodwin
DESCRIPTION:Abstract not available
LOCATION:Knox Shaw Room\, Sidney Sussex College
END:VEVENT
END:VCALENDAR
