BEGIN:VCALENDAR
VERSION:2.0
PRODID:-//Talks.cam//talks.cam.ac.uk//
X-WR-CALNAME:Talks.cam
BEGIN:VEVENT
SUMMARY:The Advantages and Disadvantages of Dog Ownership - a UK-wide Surv
 ey - Claire Brown:  University of Lincoln
DTSTART:20071119T163000Z
DTEND:20071119T173000Z
UID:TALK8887@talks.cam.ac.uk
DESCRIPTION:Abstract not available
LOCATION:Centre for Animal Welfare & Anthrozoology Seminar Room\, Departme
 nt of Veterinary Medicine
END:VEVENT
END:VCALENDAR
