BEGIN:VCALENDAR
VERSION:2.0
PRODID:-//Talks.cam//talks.cam.ac.uk//
X-WR-CALNAME:Talks.cam
BEGIN:VEVENT
SUMMARY:Europas Perspektive aus deutscher Sicht - Peter Ritzer
DTSTART:20071115T180000Z
DTEND:20071115T200000Z
UID:TALK8912@talks.cam.ac.uk
CONTACT:Christian Richardt
DESCRIPTION:Abstract not available
LOCATION:Bateman Auditorium\, Gonville and Caius College
END:VEVENT
END:VCALENDAR
