BEGIN:VCALENDAR
VERSION:2.0
PRODID:-//Talks.cam//talks.cam.ac.uk//
X-WR-CALNAME:Talks.cam
BEGIN:VEVENT
SUMMARY:Poetry\, Drama and the Cromwellian Atlantic - Edward Holberton (St
  John's College\, Cambridge)
DTSTART:20071121T170000Z
DTEND:20071121T183000Z
UID:TALK8954@talks.cam.ac.uk
CONTACT:Richard Serjeantson
DESCRIPTION:Abstract not available
LOCATION:Graham Storey Room\, Trinity Hall
END:VEVENT
END:VCALENDAR
