BEGIN:VCALENDAR
VERSION:2.0
PRODID:-//Talks.cam//talks.cam.ac.uk//
X-WR-CALNAME:Talks.cam
BEGIN:VEVENT
SUMMARY:"ENCODE: Understanding our genome" - Dr Ewan Birney:  European Bio
 informatics Inst.\, Wellcome Trust Genome Campus\, Hinxton\, Cambridge.
DTSTART:20071211T161500Z
DTEND:20071211T171500Z
UID:TALK8975@talks.cam.ac.uk
CONTACT:7222
DESCRIPTION:Abstract not available
LOCATION:Max Perutz Lecture Theatre\, LMB Building\, Hills Road\, Cambridg
 e
END:VEVENT
END:VCALENDAR
