BEGIN:VCALENDAR
VERSION:2.0
PRODID:-//Talks.cam//talks.cam.ac.uk//
X-WR-CALNAME:Talks.cam
BEGIN:VEVENT
SUMMARY: Sperm competition and speciation in mammals - Montserrat Gomendio
 \,  National Museum of Natural Sciences\, Madrid
DTSTART:20080226T170000Z
DTEND:20080226T180000Z
UID:TALK9146@talks.cam.ac.uk
CONTACT:Brenda Bradley
DESCRIPTION:Abstract not available
LOCATION:Part II Lecture Theatre\, Department of Zoology
END:VEVENT
END:VCALENDAR
