BEGIN:VCALENDAR
VERSION:2.0
PRODID:-//Talks.cam//talks.cam.ac.uk//
X-WR-CALNAME:Talks.cam
BEGIN:VEVENT
SUMMARY:Everything about EVERYTHING - Kate Trumper
DTSTART:20071126T110000Z
DTEND:20071126T120000Z
UID:TALK9324@talks.cam.ac.uk
CONTACT:Duncan Simpson
DESCRIPTION:Abstract not available
LOCATION:Pippard Lecture Theatre\, Cavendish Laboratory\, Madingley Road\,
  Cambridge
END:VEVENT
END:VCALENDAR
