BEGIN:VCALENDAR
VERSION:2.0
PRODID:-//Talks.cam//talks.cam.ac.uk//
X-WR-CALNAME:Talks.cam
BEGIN:VEVENT
SUMMARY:Elizabeth Bowen's Writing of the Second World War - Aoife Byrne\, 
 Cambridge
DTSTART:20170306T130000Z
DTEND:20170306T143000Z
UID:TALK93940@talks.cam.ac.uk
CONTACT:Dr T Tate
DESCRIPTION:Abstract not available
LOCATION:Lucy Cavendish College\, Lady Margaret Road
END:VEVENT
END:VCALENDAR
