BEGIN:VCALENDAR
VERSION:2.0
PRODID:-//Talks.cam//talks.cam.ac.uk//
X-WR-CALNAME:Talks.cam
BEGIN:VEVENT
SUMMARY:Working openly and reproducibly - developing research skills for t
 he future - Georgina Cronin\, Research Support Librarian\, Betty & Gordon 
 Moore Library
DTSTART:20171107T120000Z
DTEND:20171107T140000Z
UID:TALK94291@talks.cam.ac.uk
CONTACT:Betty & Gordon Moore Library
DESCRIPTION:This session\, part of our Moore Methods training programme\, 
 will introduce participants to the ideas of working openly and reproducibl
 y through presenting case studies and tools to help facilitate this kind o
 f work. 
LOCATION:Glass Room\, Betty and Gordon Moore Library
END:VEVENT
END:VCALENDAR
