BEGIN:VCALENDAR
VERSION:2.0
PRODID:-//Talks.cam//talks.cam.ac.uk//
X-WR-CALNAME:Talks.cam
BEGIN:VEVENT
SUMMARY:Getting recognition for your own research - Georgina Cronin\, Rese
 arch Support Librarian\, Betty & Gordon Moore Library
DTSTART:20171121T120000Z
DTEND:20171121T140000Z
UID:TALK94309@talks.cam.ac.uk
CONTACT:Betty & Gordon Moore Library
DESCRIPTION:This session\, part of our Moore Methods training programme\, 
 will introduce participants to the wonderful world of open access\, pre-pr
 ints\, ORCiD\, Symplectic and even Creative Commons licencing. All these t
 ools and systems can help you gain recognition and keep ownership of your 
 research\, as well as sharing it widely with others raising your research 
 profile all at the same time.
LOCATION:Glass Room\, Betty and Gordon Moore Library
END:VEVENT
END:VCALENDAR
